BEGIN:VCALENDAR
VERSION:2.0
PRODID:-//eventon.com NONSGML v1.0//EN
CALSCALE:GREGORIAN
METHOD:PUBLISH
BEGIN:VEVENT
UID:69e8a4dcd1806
DTSTAMP:20260422T103716Z
DTSTART:20241214T210000Z
DTEND:20241215T000000Z
LOCATION:
SUMMARY:Merry Little Christmas Party
DESCRIPTION:Join us for holiday party fun December 14th\,  2024! Perfect fo
 r younger children! Two time-slots are available: 1pm - 2pm or 3pm - 4pm Ad
 mission is $10 per child Features: Christmas Story time Historic Scavenger 
 Hunt Traditional Holiday Craft Hot Chocolate & Cookies Spread the Cheer! Li
 mited spots available! Sign-Up[..]\nhttps://missionmuseum.com/eventsON/merr
 y-little-christmas-party/
URL:https://missionmuseum.com/eventsON/merry-little-christmas-party/
END:VEVENT
END:VCALENDAR