BEGIN:VCALENDAR
VERSION:2.0
PRODID:-//Mission Museum - ECPv6.15.20//NONSGML v1.0//EN
CALSCALE:GREGORIAN
METHOD:PUBLISH
X-WR-CALNAME:Mission Museum
X-ORIGINAL-URL:https://missionmuseum.com
X-WR-CALDESC:Events for Mission Museum
REFRESH-INTERVAL;VALUE=DURATION:PT1H
X-Robots-Tag:noindex
X-PUBLISHED-TTL:PT1H
BEGIN:VTIMEZONE
TZID:America/Vancouver
BEGIN:DAYLIGHT
TZOFFSETFROM:-0800
TZOFFSETTO:-0700
TZNAME:PDT
DTSTART:20160313T100000
END:DAYLIGHT
BEGIN:STANDARD
TZOFFSETFROM:-0700
TZOFFSETTO:-0800
TZNAME:PST
DTSTART:20161106T090000
END:STANDARD
BEGIN:DAYLIGHT
TZOFFSETFROM:-0800
TZOFFSETTO:-0700
TZNAME:PDT
DTSTART:20170312T100000
END:DAYLIGHT
BEGIN:STANDARD
TZOFFSETFROM:-0700
TZOFFSETTO:-0800
TZNAME:PST
DTSTART:20171105T090000
END:STANDARD
BEGIN:DAYLIGHT
TZOFFSETFROM:-0800
TZOFFSETTO:-0700
TZNAME:PDT
DTSTART:20180311T100000
END:DAYLIGHT
BEGIN:STANDARD
TZOFFSETFROM:-0700
TZOFFSETTO:-0800
TZNAME:PST
DTSTART:20181104T090000
END:STANDARD
END:VTIMEZONE
BEGIN:VEVENT
DTSTART;TZID=America/Vancouver:20171014T133000
DTEND;TZID=America/Vancouver:20171014T163000
DTSTAMP:20260425T184659
CREATED:20170907T205016Z
LAST-MODIFIED:20171013T230629Z
UID:993-1507987800-1507998600@missionmuseum.com
SUMMARY:Women of Style & Substance
DESCRIPTION:Don’t miss this gala event featuring: \n‘Then & Now’ Fashion Show\nWe’re visiting the 1950s with fashions from the museum collection! Prefer modern? Some of Mission’s best fashion retailers will be showcasing contemporary fashions\, including Silk Degrees\, Suzanne’s\, Mossy Creek & Co\, Fronya Thrift Boutique\, Mac & Mango and KFashion Apparel. \n\nPaths & Pathfinders: Women of Mission\nA program produced by the Mission Community Archives to acknowledge and celebrate the contributions of Mission’s women. This year\, the two honourees are Mission firefight\, Tara Griffith\, and arts advocate\, Bronwen Sutherland.\n\nA little bit of theatre…\n\nA special theatrical presentation to mark the 100th anniversary of limited female suffrage in Canada. \n\nSilent Auction\nWe’ll have some amazing goodies up for grabs! We’d like to shout out a big thank you to our generous sponsors: \nHarrison Hot Springs Resort & Spa\nMackie Naturals Salon & Spa\nBrown’s Social House\nSchuh Boutik\nMission Clay Works\nMac & Mango\nBlack Bond Books\nKarla’s Special Teas\nLeftover Hippies Incense\nSafeway \nProceeds go towards the continuing operation of the Mission Museum and the Mission Community Archives. \nTea\, Coffee and some seriously good cookies provided!\nTickets are $25 at the door.\n  \nWe hope to see you there!\n 
URL:https://missionmuseum.com/event/women-of-style-substance-2/
LOCATION:Cedar Valley Mennonite Church\, 32862 Cherry Avenue\, Mission\, BC\, Canada
CATEGORIES:Then & Now Fashion Show,Women of Style & Substance
END:VEVENT
END:VCALENDAR